BEGIN:VCALENDAR
VERSION:2.0
PRODID:-//https://baldauf-villa.de///NONSGML kigkonsult.se iCalcreator 2.10.15//
METHOD:PUBLISH
BEGIN:VEVENT
UID:20260420T154703CEST-8373ZUs0lD@https://baldauf-villa.de/
DTSTAMP:20260420T134703Z
DESCRIPTION:Der Igel will am liebsten seine Ruhe haben und hält ein Schläfc
 hen auf seinem Rübenacker in der warmen Sonne. Da kommt der eingebildete H
 ase auf seinem Sonntagsspaziergang vorbei. Er passt nicht auf und stürzt d
 abei über den am Weg liegenden Igel. Sein guter Anzug ist hin. Es hilft au
 ch nicht\, dass die diensteifrige Maus herbeieilt und versucht\, alles sau
 ber zu putzen. Der Hase gerät in Zorn. Für die Frechheit des Stacheltieres
 \, einfach so im Weg herumzuliegen\, fordert er als Schadensersatz vom Ige
 l dessen Rübenacker. Denn schließlich\, so das Argument des Hasen\, wäre d
 er Acker vom Unkraut befreit gewesen\, hätte der Igel sehen können\, dass 
 jemand des Weges kommt. Aber da der Igel seinen Acker nicht pflegt\, hat e
 r ihn eben auch nicht verdient. Diese Dreistigkeit wollen sich der Igel un
 d seine Frau nicht gefallen lassen. Als der Hase unverschämt wird und soga
 r die Igelin in seiner grenzenlosen Arroganz beleidigt\, sinnen sie nach e
 iner List. Wie können sie ihren Acker behalten? Der Igel bietet dem Hasen 
 einen gemeinsamen Wettlauf an. Der kluge Rabe\, der sich der Dichtkunst ve
 rschrieben hat\, soll dabei diesen Wettbewerb als Schiedsrichter überwache
 n. Wer gewinnt\, soll den Acker als Siegerpreis erhalten. Interessiert ver
 folgt die Amselfamilie das ganze Szenario. Sie wollen dem Igel und seiner 
 Frau gern helfen. Wird das gelingen?\nFür Gruppen ist eine Anmeldung erfor
 derlich! https://baldauf-villa.de/event/618-der-wettlauf-zwischen-hase-und
 -igel.html
DTSTART:20220420T073000Z
DTEND:20220420T093000Z
LOCATION:Baldauf Villa (Anton-Günther-Weg 4\, 09496 Marienberg)
SUMMARY:Der Wettlauf zwischen Hase und Igel
URL:https://baldauf-villa.de/event/618-der-wettlauf-zwischen-hase-und-igel.
 html
END:VEVENT
END:VCALENDAR
